




  BEGIN:VCALENDAR
VERSION:2.0
PRODID:-//wp-events-plugin.com//7.2.3.1//EN
BEGIN:VEVENT
UID:238@qnihs.ca
DTSTART:20250222T180000Z
DTEND:20250222T210000Z
DTSTAMP:20250127T182216Z
URL:http://qnihs.ca/events/pangnirtung-community-event/
SUMMARY:Pangnirtung Community Event
DESCRIPTION:
CATEGORIES:Pangnirtung
LOCATION:Community Hall\, Pangnirtung \, Nunavut\, Canada\, X0C 0A0\,  \, C
 anada
X-APPLE-STRUCTURED-LOCATION;VALUE=URI;X-ADDRESS=Pangnirtung \, Nunavut\, Ca
 nada\, X0C 0A0\,  \, Canada;X-APPLE-RADIUS=100;X-TITLE=Community Hall:geo:
 0,0
END:VEVENT
END:VCALENDAR