




  BEGIN:VCALENDAR
VERSION:2.0
PRODID:-//wp-events-plugin.com//7.2.3.1//EN
BEGIN:VEVENT
UID:105@qnihs.ca
DTSTART:20241115T190000Z
DTEND:20241115T210000Z
DTSTAMP:20241002T154904Z
URL:http://qnihs.ca/iuq/events/kugaaruk-survey-session-8/
SUMMARY:Kugaaruk Survey Session
DESCRIPTION:
CATEGORIES:Kitikmeot,Kugaaruk
END:VEVENT
END:VCALENDAR