




  BEGIN:VCALENDAR
VERSION:2.0
PRODID:-//wp-events-plugin.com//7.2.3.1//EN
BEGIN:VEVENT
UID:60@qnihs.ca
DTSTART:20240929T190000Z
DTEND:20240929T210000Z
DTSTAMP:20240925T164209Z
URL:http://qnihs.ca/iuq/events/kugluktuk-survey-session-5/
SUMMARY:Kugluktuk Survey Session
DESCRIPTION:
CATEGORIES:Kitikmeot,Kugluktuk
END:VEVENT
END:VCALENDAR