




  BEGIN:VCALENDAR
VERSION:2.0
PRODID:-//wp-events-plugin.com//7.2.3.1//EN
BEGIN:VEVENT
UID:55@qnihs.ca
DTSTART:20240925T190000Z
DTEND:20240925T210000Z
DTSTAMP:20241008T180613Z
URL:http://qnihs.ca/ius/events/kugluktuk-community-event/
SUMMARY:Kugluktuk Community Event
DESCRIPTION:
CATEGORIES:Kitikmeot,Kugluktuk
LOCATION:http://qnihs.ca/locations/community-hall-2/
END:VEVENT
END:VCALENDAR